BEGIN:VCALENDAR
VERSION:2.0
PRODID:-//Millstream Brewing Co. - ECPv6.15.19//NONSGML v1.0//EN
CALSCALE:GREGORIAN
METHOD:PUBLISH
X-WR-CALNAME:Millstream Brewing Co.
X-ORIGINAL-URL:https://millstreambrewing.com
X-WR-CALDESC:Events for Millstream Brewing Co.
REFRESH-INTERVAL;VALUE=DURATION:PT1H
X-Robots-Tag:noindex
X-PUBLISHED-TTL:PT1H
BEGIN:VTIMEZONE
TZID:America/Chicago
BEGIN:DAYLIGHT
TZOFFSETFROM:-0600
TZOFFSETTO:-0500
TZNAME:CDT
DTSTART:20250309T080000
END:DAYLIGHT
BEGIN:STANDARD
TZOFFSETFROM:-0500
TZOFFSETTO:-0600
TZNAME:CST
DTSTART:20251102T070000
END:STANDARD
BEGIN:DAYLIGHT
TZOFFSETFROM:-0600
TZOFFSETTO:-0500
TZNAME:CDT
DTSTART:20260308T080000
END:DAYLIGHT
BEGIN:STANDARD
TZOFFSETFROM:-0500
TZOFFSETTO:-0600
TZNAME:CST
DTSTART:20261101T070000
END:STANDARD
BEGIN:DAYLIGHT
TZOFFSETFROM:-0600
TZOFFSETTO:-0500
TZNAME:CDT
DTSTART:20270314T080000
END:DAYLIGHT
BEGIN:STANDARD
TZOFFSETFROM:-0500
TZOFFSETTO:-0600
TZNAME:CST
DTSTART:20271107T070000
END:STANDARD
END:VTIMEZONE
BEGIN:VEVENT
DTSTART;TZID=America/Chicago:20260425T180000
DTEND;TZID=America/Chicago:20260425T210000
DTSTAMP:20260420T221300
CREATED:20260129T153115Z
LAST-MODIFIED:20260129T153115Z
UID:14968-1777140000-1777150800@millstreambrewing.com
SUMMARY:LIVE MUSIC MIKE WALSH AT MILLSTREAM BREWING CO.
DESCRIPTION:HE’S BACK!! Join us in the Millstream Brewing Co. taproom for an evening of your favorite classic rock and country hits (and even an original song or two) performed by the amazing Mike Walsh! Pair the perfect evening with some tasty Millstream brews.
URL:https://millstreambrewing.com/event/live-music-mike-walsh-at-millstream-brewing-co/
LOCATION:Millstream Brewing Co.\, 835 48th Ave\, Amana\, IA\, 52203\, United States
CATEGORIES:Live Music,Special Event
ATTACH;FMTTYPE=image/jpeg:https://millstreambrewing.com/wp-content/uploads/2026/01/Walsh-Mike-suit.jpeg
ORGANIZER;CN="Millstream Brewing Co.":MAILTO:susan@millstreambrewing.com
END:VEVENT
END:VCALENDAR